BEGIN:VCALENDAR
VERSION:2.0
PRODID:-//Squarespace Inc/Squarespace 6//v6//EN
BEGIN:VEVENT
UID:5f5ad26618dbb201be17ba72@squarespace.com
DTSTAMP:20210130T071518Z
DTSTART:20201007T230000Z
DTEND:20201108T030000Z
SUMMARY:BGP @ Weswal in Tamworth
END:VEVENT
END:VCALENDAR
