BEGIN:VCALENDAR
VERSION:2.0
PRODID:-//Squarespace Inc/Squarespace 6//v6//EN
BEGIN:VEVENT
UID:5c5cc52cee6eb047fab3af1d@squarespace.com
DTSTAMP:20190208T000301Z
DTSTART:20190220T230000Z
DTEND:20190221T020000Z
SUMMARY:Term 1 Printmaking with Lizzie Horne (week 2)
GEO:-30.525271;151.664801
LOCATION:Museum of Printing\, NERAM\, 106-114 Kentucky Street\, Armidale\, 
 New South Wales\, 2350\, Australia
END:VEVENT
END:VCALENDAR
