BEGIN:VCALENDAR
VERSION:2.0
PRODID:-//Squarespace Inc/Squarespace 6//v6//EN
BEGIN:VEVENT
UID:5c5cc57b9b747a3d5276ec82@squarespace.com
DTSTAMP:20190208T000317Z
DTSTART:20190306T230000Z
DTEND:20190307T020000Z
SUMMARY:Term 1 Printmaking with Lizzie Horne (week 4)
GEO:-30.525271;151.664801
LOCATION:Museum of Printing\, NERAM\, 106-114 Kentucky Street\, Armidale\, 
 New South Wales\, 2350\, Australia
END:VEVENT
END:VCALENDAR
