BEGIN:VCALENDAR
VERSION:2.0
PRODID:-//Squarespace Inc/Squarespace 6//v6//EN
BEGIN:VEVENT
UID:5f5acf23a1a0c77e057fd2d3@squarespace.com
DTSTAMP:20200911T013136Z
DTSTART:20200928T000000Z
DTEND:20201001T030000Z
SUMMARY:4 day aluminium etching workshop with Lizzie Horne
GEO:-30.501562;151.666199
LOCATION:Armidale\, New South Wales\, 2350\, Australia
END:VEVENT
END:VCALENDAR
