BEGIN:VCALENDAR
VERSION:2.0
PRODID:-//Squarespace Inc/Squarespace 6//v6//EN
BEGIN:VEVENT
UID:5f5ad176018d43579cf691ac@squarespace.com
DTSTAMP:20200911T013143Z
DTSTART:20201004T220000Z
DTEND:20201008T050000Z
SUMMARY:4 day dry point etching workshop with Lizzie Horne
GEO:-30.525271;151.664801
LOCATION:Armidale\, New South Wales\, 2350\, Australia
END:VEVENT
END:VCALENDAR
