BEGIN:VCALENDAR
VERSION:2.0
PRODID:-//Squarespace Inc/Squarespace 6//v6//EN
BEGIN:VEVENT
UID:5cb3c1b68165f55d35dd9ea2@squarespace.com
DTSTAMP:20200911T011307Z
DTSTART:20190613T000000Z
DTEND:20190613T030000Z
SUMMARY:Term 2 Printmaking with Lizzie Horne (week 5)
GEO:-30.525271;151.664801
LOCATION:Museum of Printing\, NERAM\, 106-114 Kentucky Street\, Armidale\, 
 New South Wales\, 2350\, Australia
END:VEVENT
END:VCALENDAR
