BEGIN:VCALENDAR
VERSION:2.0
PRODID:-//Squarespace Inc/Squarespace 6//v6//EN
BEGIN:VEVENT
UID:5cb3c12b4785d379fe0b1250@squarespace.com
DTSTAMP:20190414T232748Z
DTSTART:20190530T000000Z
DTEND:20190530T030000Z
SUMMARY:Term 2 Printmaking with Lizzie Horne (week 3)
GEO:-30.525271;151.664801
LOCATION:Museum of Printing\, NERAM\, 106-114 Kentucky Street\, Armidale\, 
 New South Wales\, 2350\, Australia
END:VEVENT
END:VCALENDAR
