BEGIN:VCALENDAR
VERSION:2.0
PRODID:-//Squarespace Inc/Squarespace 6//v6//EN
BEGIN:VEVENT
UID:5cb3c00ae79c70e52f2a1cff@squarespace.com
DTSTAMP:20190414T232735Z
DTSTART:20190516T000000Z
DTEND:20190516T030000Z
SUMMARY:Term 2 Printmaking with Lizzie Horne (week 1)
GEO:-30.525271;151.664801
LOCATION:Museum of Printing\, NERAM\, 106-114 Kentucky Street\, Armidale\, 
 New South Wales\, 2350\, Australia
END:VEVENT
END:VCALENDAR
