BEGIN:VCALENDAR
VERSION:2.0
PRODID:-//Squarespace Inc/Squarespace 6//v6//EN
BEGIN:VEVENT
UID:6015078678b54a53188b384d@squarespace.com
DTSTAMP:20210204T215809Z
DTSTART:20210204T220000Z
DTEND:20210319T053000Z
SUMMARY:Past\, Present\, Print
GEO:-30.514509;151.665664
LOCATION:Armidale Regional Council\, 135 Rusden Street\, Armidale NSW 2350\
 , Australia
END:VEVENT
END:VCALENDAR
