BEGIN:VCALENDAR
VERSION:2.0
PRODID:-//Squarespace Inc/Squarespace 6//v6//EN
BEGIN:VEVENT
UID:5c5cc5aefa0d60669c2a6c13@squarespace.com
DTSTAMP:20190208T000859Z
DTSTART:20190207T230000Z
DTEND:20190428T070000Z
SUMMARY:MATERIAL THINKING: The Poetics of Process
GEO:-30.525271;151.664801
LOCATION:NERAM\, 106-114 Kentucky Street\, Armidale\, New South Wales\, 235
 0\, Australia
END:VEVENT
END:VCALENDAR
