BEGIN:VCALENDAR
VERSION:2.0
PRODID:-//Squarespace Inc/Squarespace 6//v6//EN
BEGIN:VEVENT
UID:5c5cc89be2c483d9d3a6c917@squarespace.com
DTSTAMP:20190208T001427Z
DTSTART:20190208T233000Z
DTEND:20190209T013000Z
SUMMARY:Artist talks - MATERIAL THINKING: The Poetics of Process
GEO:-30.525271;151.664801
LOCATION:NERAM\, 106-114 Kentucky Street\, Armidale\, New South Wales\, 235
 0\, Australia
END:VEVENT
END:VCALENDAR
