BEGIN:VCALENDAR
VERSION:2.0
PRODID:-//Squarespace Inc/Squarespace 6//v6//EN
BEGIN:VEVENT
UID:5dc20fe8c0d3364af5c85000@squarespace.com
DTSTAMP:20191107T015105Z
DTSTART:20191213T070000Z
DTEND:20191216T050000Z
SUMMARY:Between the Lines: Black Gully Printmakers inspired by Judith Wrigh
 t
GEO:-30.511791;152.046369
LOCATION:Sauer Memorial Hall Wollomombi\, Wollomombi Village Road\, Wollomo
 mbi\, NSW\, 2350\, Australia
END:VEVENT
END:VCALENDAR
