BEGIN:VCALENDAR
VERSION:2.0
PRODID:-//Squarespace Inc/Squarespace 6//v6//EN
BEGIN:VEVENT
UID:5dc2175018e86a079bee87d4@squarespace.com
DTSTAMP:20191106T010106Z
DTSTART:20191213T070000Z
DTEND:20191213T100000Z
SUMMARY:Opening night!
GEO:-30.511791;152.046369
LOCATION:Sauer Memorial Hall Wollomombi\, Wollomombi Village Road\, Wollomo
 mbi\, NSW\, 2350\, Australia
END:VEVENT
END:VCALENDAR
