BEGIN:VCALENDAR
VERSION:2.0
PRODID:-//Squarespace Inc/Squarespace 6//v6//EN
BEGIN:VEVENT
UID:5dc216abbfc278732a750350@squarespace.com
DTSTAMP:20191106T010143Z
DTSTART:20191214T030000Z
DTEND:20191214T050000Z
SUMMARY:Poetry reading at 'Between the Lines: Black Gully Printmakers inspi
 red by Judith Wright'
GEO:-30.511791;152.046369
LOCATION:Sauer Memorial Hall Wollomombi\, Wollomombi Village Road\, Wollomo
 mbi\, NSW\, 2350\, Australia
END:VEVENT
END:VCALENDAR
