BEGIN:VCALENDAR
VERSION:2.0
PRODID:-//Squarespace Inc/Squarespace 6//v6//EN
BEGIN:VEVENT
UID:5cb3bc8b9b747a58e8ae5f71@squarespace.com
DTSTAMP:20190415T220115Z
DTSTART:20190524T230000Z
DTEND:20190525T060000Z
SUMMARY:Two day Collagraph Workshop with Rhonda Ellem (day 1)
GEO:-30.525271;151.664801
LOCATION:NERAM - Museum of Printing\, 106-114 Kentucky Street\, Armidale\, 
 New South Wales\, 2350\, Australia
END:VEVENT
END:VCALENDAR
