BEGIN:VCALENDAR
VERSION:2.0
PRODID:-//Squarespace Inc/Squarespace 6//v6//EN
BEGIN:VEVENT
UID:5dc20edd28cc201615ca975e@squarespace.com
DTSTAMP:20191106T001224Z
DTSTART:20191108T230000Z
DTEND:20191109T030000Z
SUMMARY:BGP @ Black Gully Festival!
END:VEVENT
END:VCALENDAR
