BEGIN:VCALENDAR
VERSION:2.0
PRODID:-//Squarespace Inc/Squarespace 6//v6//EN
BEGIN:VEVENT
UID:5cb3bee59b747a58e8ae74ef@squarespace.com
DTSTAMP:20190414T231834Z
DTSTART:20190502T190000Z
DTEND:20190616T070000Z
SUMMARY:Between the Lines
GEO:-30.525271;151.664801
LOCATION:NERAM\, 106-114 Kentucky Street\, Armidale\, New South Wales\, 235
 0\, Australia
END:VEVENT
END:VCALENDAR
