BEGIN:VCALENDAR
VERSION:2.0
PRODID:-//Squarespace Inc/Squarespace 6//v6//EN
BEGIN:VEVENT
UID:5b68ccc5758d46cbe6685f72@squarespace.com
DTSTAMP:20190208T011748Z
DTSTART:20181026T230000Z
DTEND:20181028T050000Z
SUMMARY:Arts North West Art Trail Open Weekend 2018
END:VEVENT
END:VCALENDAR
