BEGIN:VCALENDAR
VERSION:2.0
PRODID:-//Squarespace Inc/Squarespace 6//v6//EN
BEGIN:VEVENT
UID:5c5cd8c1e2c483d9d3a77e35@squarespace.com
DTSTAMP:20191106T000756Z
DTSTART:20191101T230000Z
DTEND:20191103T050000Z
SUMMARY:Arts North West Art Trail Open Weekend 2019
END:VEVENT
END:VCALENDAR
